BEGIN:VCALENDAR
VERSION:2.0
PRODID:-//hacksw/handcal//NONSGML v1.0//EN
BEGIN:VEVENT
SUMMARY:BESANCON ELIMINATOIRE DOUBLE MIXTE 3/4 D
UID:46b895ce-9f9d-48fb-89d5-d788e35a0ea8
DTSTART:20220320T070000Z
DTEND:20220320T230000Z
LOCATION:Localisation   
CATEGORIES:Sportif
STATUS:
DESCRIPTION:<p>0633339750 DIRAND GILLES</p>
 
URL;VALUE=URI:https://www.districtsportboules257090.com/evenements/2022/03/20/besancon-eliminatoire-double-mixte-34-d-1580900
END:VEVENT
END:VCALENDAR
